BEGIN:VCALENDAR
VERSION:2.0
PRODID:-//LEPTON-CMS//lepton-cms.org//EN
CALSCALE:GREGORIAN
BEGIN:VEVENT
DTSTART:20260321T110000
DTEND:20260322T190000
LOCATION:64579-Gernsheim
DTSTAMP:20251216T000000
SUMMARY:17. Mittelalterlicher Frühjahrsmarkt
URL;VALUE=URI:https://www.mittelalterkalender.info
DESCRIPTION:<p>Am 21.+22.03.2026 wird der Mittelalterliche Frühjahrsmarkt in neuem Umfang und Glanz erstrahlen. <br />
<br />
Die Besucher, Familie und Kinder erwartet eine Zeitreise in das historische Mittelalter. Rund um den Markt präsentieren sich Händler und Handwerker mit Schmuck, Lederartikel und Lederverarbeitung, Gewandungen, Schnitzereien, Hornartikel, Holzwaren, Kleidung, Waffen u.v.m. aber auch Heerlager der verschiedenen Epochen die, die Lebensweise im Mittelalter darstellen. Ritter und Wikinger, Kelten und Germanen, von einfachen Bauern bis zu Kriegern.<br />
<br />
Für das leibliche Wohl sorgen Wirte mit ihrem herzhaften Gaumenschmaus und anderen süßen Leckereien und kein Geschmack wird dabei zu kurz kommen.<br />
<br />
Über den ganzen Tag gibt es unterhaltsame Musikeinlagen zu hören. Die bekannte Mittelalterband Spielleute RatzFatz und Rübe spielen am Tag mehrere Konzerte. Für Tanzunterhaltung ist“ Zariefe“, eine Gruppe anmutiger Frauen, viele Male mit einem Tribal Dance zu sehen.<br />
<br />
Der Zauberer Convin zeigt seine fesselnden Magischen Zauberei und vielleicht verrät er ja auch eine seiner gezeigten Zaubereien.<br />
<br />
Ein Historischer Tätowierer zeigt vor Ort seiner Kunst auch an Besuchen, wenn erwünscht.<br />
<br />
Auch ein Mittelalterliches Karussell, dass handbetrieben ist und Mittelalterliche Spiel-Stände für Kinder gilt es zu erforschen. Neu wird das Katapult sein, eine Mittelalterliche Belagerungs-Maschine.   <br />
<br />
Für Groß und Klein gibt es unter anderem eine handwerkliche Schmiedevorstellung, Bogen - und Axtwerfen, und auch Doppelaxt werfen für die starken Männer, sowie weitere zusätzliche Attraktionen sind zu sehen und zu erleben.<br />
<br />
Auch ein bekannter Falkner wird seine Falken den Tag über zeigen und erklären. Auch Fotos können mit den Tieren gemacht werden.<br />
<br />
Neu ist die Abendliche Feuershow von Phoenix – Eine Augenweide.<br />
<br />
Auch wieder dabei ist Keltia Theater Märchen & Mythen mit Harfenmusik von ElainMorgaine erzählt Keltische Märchen<br />
<br />
Ein Mittelalterliches Museum, das einzige „fahrbare Museum“ mit vielen Rüstungen und hunderten Repliken aber auch mit originalen Fundstücken und vielen Gegenständen sowie Waffen aus der Zeit des Frühmittelalters, wird zu bestaunen sein.<br />
<br />
Alles in allem ist dieser historische Markt eine Attraktion für die ganze Familie und Freunde des Mittelalters. Genießen, Mitfeiern ist das „Motto“, das sollte man nicht verpassen.<br />
<br />
Erwachsen: 8,00 Taler<br />
Gewandet: 6.00 Taler<br />
Kinder: 4,00 Taler<br />
Kinder unter Schwertmaß: FREI<br />
Familie Ticket 2 Erwachsene ab 1 Kind bis x Kinder: 16,00 Taler<br />
Rollstuhlfahrer: Frei<br />
Ab 80 % Behinderung; 4 Taler<br />
<br />
<strong>Öffnungszeiten</strong><br />
Sa. 11 Uhr bis 22 Uhr<br />
So. 11 Uhr bis 19 Uhr</p>

<p>--------------------------------------------------------------------------------------------------------------------------------------------------<br />
<br />
<i>> Was kann man in Gernsheim und Umgebung noch so machen? <a href="https://www.exkursia.de/ausflugsziele/bundeslaender/hessen.php" target="_blank">Hier geht es zu den Freizeittipps und Ausflugszielen.</a><br />
<br />
> Und wo übernachten? <a href="https://www.jdoqocy.com/click-101445764-14082404?url=https%3A%2F%2Fwww.booking.com%2Fsearchresults.de.html%3Fss%3DGernsheim" target="_blank">Hier findet Ihr die passenden Hotels und Pensionen.</a></i><br />
 </p>

UID:20251216T000000-20260321T110000-20260322T190000
END:VEVENT
END:VCALENDAR