BEGIN:VCALENDAR
VERSION:2.0
PRODID:-//LEPTON-CMS//lepton-cms.org//EN
CALSCALE:GREGORIAN
BEGIN:VEVENT
DTSTART:20260710T180000
DTEND:20260712T180000
LOCATION:63868-Großwallstadt
DTSTAMP:20251211T000000
SUMMARY:8. Historischer Markt Großwallstadt
URL;VALUE=URI:https://www.mittelalterkalender.info
DESCRIPTION:<p>Leider liegen uns keine weiteren Informationen zu dieser Veranstaltung vor. Wenn Sie zu diesem Termin etwas hinzufügen oder eine Änderung vornehmen wollen, schreiben Sie uns bitte eine E-Mail.</p>

<p>--------------------------------------------------------------------------------------------------------------------------------------------------<br />
<br />
<i>> Was kann man in Großwallstadt und Umgebung noch so machen? <a href="https://www.exkursia.de/ausflugsziele/bundeslaender/bayern.php" target="_blank">Hier geht es zu den Freizeittipps und Ausflugszielen.</a><br />
<br />
> Und wo übernachten? <a href="https://www.jdoqocy.com/click-101445764-14082404?url=https%3A%2F%2Fwww.booking.com%2Fsearchresults.de.html%3Fss%3DGroßwallstadt" target="_blank">Hier findet Ihr die passenden Hotels und Pensionen.</a></i><br />
 </p>

UID:20251211T000000-20260710T180000-20260712T180000
END:VEVENT
END:VCALENDAR