BEGIN:VCALENDAR
VERSION:2.0
PRODID:-//LEPTON-CMS//lepton-cms.org//EN
CALSCALE:GREGORIAN
BEGIN:VEVENT
DTSTART:20260718T110000
DTEND:20260719T170000
LOCATION:74245-Löwenstein
DTSTAMP:20251019T000000
SUMMARY:Burg Löwenstein im Mittelalter
URL;VALUE=URI:https://www.mittelalterkalender.info
DESCRIPTION:<p>Burg Löwenstein im Mittelalter Living History - Entstehung und Fall von Burg Löwenstein Darsteller und Gruppen aus dem Hoch- und Spätmittelalter vermitteln die Geschichte der mittelalterlichen Wehranlage.</p>
<p>--------------------------------------------------------------------------------------------------------------------------------------------------<br />
<br />
<i>> Was kann man in Löwenstein und Umgebung noch so machen? <a href="https://www.exkursia.de/ausflugsziele/bundeslaender/baden-wuerttemberg.php" target="_blank">Hier geht es zu den Freizeittipps und Ausflugszielen.</a><br />
<br />
> Und wo übernachten? <a href="https://www.jdoqocy.com/click-101445764-14082404?url=https%3A%2F%2Fwww.booking.com%2Fsearchresults.de.html%3Fss%3DLöwenstein, Baden-Württemberg" target="_blank">Hier findet Ihr die passenden Hotels und Pensionen.</a></i><br />
 </p>

UID:20251019T000000-20260718T110000-20260719T170000
END:VEVENT
END:VCALENDAR