BEGIN:VCALENDAR
VERSION:2.0
PRODID:-//LEPTON-CMS//lepton-cms.org//EN
CALSCALE:GREGORIAN
BEGIN:VEVENT
DTSTART:20260905T120000
DTEND:20260906T180000
LOCATION:63594-Hasselroth
DTSTAMP:20250929T000000
SUMMARY:6. Gondsrother Ritterlager
URL;VALUE=URI:https://www.mittelalterkalender.info
DESCRIPTION:<p>Vom 5. bis 6. September 2026 schlagen die Ritter wieder ihr Lager auf. Neben Schaukämpfen, Ponyreiten und musikalischem Programm wird es in diesem Jahr wieder Marktstände geben. Wie im letzten Jahr findet das Ritterlager und der Mittelaltermarkt in Niedermittlau auf dem Sportplatz statt. Schauen Sie doch einmal vorbei und tauchen sie in die Welt des Mittelalters ein.</p>
<p>--------------------------------------------------------------------------------------------------------------------------------------------------<br />
<br />
<i>> Was kann man in Gondsroth und Umgebung noch so machen? <a href="https://www.exkursia.de/ausflugsziele/bundeslaender/hessen.php" target="_blank">Hier geht es zu den Freizeittipps und Ausflugszielen.</a><br />
<br />
> Und wo übernachten? <a href="https://www.jdoqocy.com/click-101445764-14082404?url=https%3A%2F%2Fwww.booking.com%2Fsearchresults.de.html%3Fss%3DHasselroth" target="_blank">Hier findet Ihr die passenden Hotels und Pensionen.</a></i><br />
 </p>

UID:20250929T000000-20260905T120000-20260906T180000
END:VEVENT
END:VCALENDAR