BEGIN:VCALENDAR
VERSION:2.0
PRODID:-//LEPTON-CMS//lepton-cms.org//EN
CALSCALE:GREGORIAN
BEGIN:VEVENT
DTSTART:20260829T110000
DTEND:20260830T180000
LOCATION:30629-Hannover
DTSTAMP:20240826T000000
SUMMARY:Mittelalterliches Markttreiben
URL;VALUE=URI:https://www.mittelalterkalender.info
DESCRIPTION:<h2>Ein buntes mittelalterliches Treiben am Blauen See</h2>

<p>Samstag, 29.08.26, 11.00 - 23.00 Uhr<br />
Sonntag, 30.08.26, 11.00 - 18.00 Uhr </p>

<p>--------------------------------------------------------------------------------------------------------------------------------------------------<br />
<br />
<i>> Was kann man in Hannover noch so machen? <a href="https://www.exkursia.de/ausflugsziele/top-staedte-in-niedersachsen/freizeittipps-und-ausflugsziele-in-hannover.php" target="_blank">Hier geht es zu den Freizeittipps und Ausflugszielen.</a><br />
<br />
> Und wo übernachten? <a href="https://www.jdoqocy.com/click-101445764-14082404?url=https%3A%2F%2Fwww.booking.com%2Fsearchresults.de.html%3Fss%3DHannover" target="_blank">Hier findet Ihr die passenden Hotels und Pensionen.</a></i><br />
 </p>

UID:20240826T000000-20260829T110000-20260830T180000
END:VEVENT
END:VCALENDAR