BEGIN:VCALENDAR
VERSION:2.0
PRODID:-//LEPTON-CMS//lepton-cms.org//EN
CALSCALE:GREGORIAN
BEGIN:VEVENT
DTSTART:20260604T000000
DTEND:20260607T000000
LOCATION:68766-Hockenheim
DTSTAMP:20240618T000000
SUMMARY:Mittelaltermarkt zu Hockenheim
URL;VALUE=URI:https://www.mittelalterkalender.info
DESCRIPTION:<p>Leider liegen uns keine weiteren Informationen zu dieser Veranstaltung vor. Wenn Sie zu diesem Termin etwas hinzufügen oder eine Änderung vornehmen wollen, schreiben Sie uns bitte eine E-Mail.</p>

<p>--------------------------------------------------------------------------------------------------------------------------------------------------<br />
<br />
<i>> Was kann man in Hockenheim und Umgebung noch so machen? <a href="https://www.exkursia.de/ausflugsziele/bundeslaender/baden-wuerttemberg.php" target="_blank">Hier geht es zu den Freizeittipps und Ausflugszielen.</a><br />
<br />
> Und wo übernachten? <a href="https://www.jdoqocy.com/click-101445764-14082404?url=https%3A%2F%2Fwww.booking.com%2Fsearchresults.de.html%3Fss%3DHockenheim" target="_blank">Hier findet Ihr die passenden Hotels und Pensionen.</a></i><br />
 </p>


UID:20240618T000000-20260604T000000-20260607T000000
END:VEVENT
END:VCALENDAR